BEGIN:VCALENDAR
VERSION:2.0
PRODID:-//Infozentrum Kaltenbronn - ECPv6.15.20//NONSGML v1.0//EN
CALSCALE:GREGORIAN
METHOD:PUBLISH
X-WR-CALNAME:Infozentrum Kaltenbronn
X-ORIGINAL-URL:https://infozentrum-kaltenbronn.de
X-WR-CALDESC:Veranstaltungen für Infozentrum Kaltenbronn
REFRESH-INTERVAL;VALUE=DURATION:PT1H
X-Robots-Tag:noindex
X-PUBLISHED-TTL:PT1H
BEGIN:VTIMEZONE
TZID:Europe/Berlin
BEGIN:DAYLIGHT
TZOFFSETFROM:+0100
TZOFFSETTO:+0200
TZNAME:CEST
DTSTART:20250330T010000
END:DAYLIGHT
BEGIN:STANDARD
TZOFFSETFROM:+0200
TZOFFSETTO:+0100
TZNAME:CET
DTSTART:20251026T010000
END:STANDARD
BEGIN:DAYLIGHT
TZOFFSETFROM:+0100
TZOFFSETTO:+0200
TZNAME:CEST
DTSTART:20260329T010000
END:DAYLIGHT
BEGIN:STANDARD
TZOFFSETFROM:+0200
TZOFFSETTO:+0100
TZNAME:CET
DTSTART:20261025T010000
END:STANDARD
BEGIN:DAYLIGHT
TZOFFSETFROM:+0100
TZOFFSETTO:+0200
TZNAME:CEST
DTSTART:20270328T010000
END:DAYLIGHT
BEGIN:STANDARD
TZOFFSETFROM:+0200
TZOFFSETTO:+0100
TZNAME:CET
DTSTART:20271031T010000
END:STANDARD
END:VTIMEZONE
BEGIN:VEVENT
DTSTART;TZID=Europe/Berlin:20260425T100000
DTEND;TZID=Europe/Berlin:20260425T170000
DTSTAMP:20260421T140313
CREATED:20260214T130516Z
LAST-MODIFIED:20260404T111247Z
UID:3217-1777111200-1777136400@infozentrum-kaltenbronn.de
SUMMARY:Wildes Kochen für Familien
DESCRIPTION:Feuermachen ohne Streichholz\, Kochen auf dem Lagerfeuer\, Tierspuren suchen und einfach zusammen sein. An diesem Tag im Kaltenbronner Wald können (Groß-)Eltern mit ihren Kindern gemeinsam die Wildnis entdecken. Die Natur gibt uns die Möglichkeit\, uns gegenseitig neu kennenzulernen\, ungeahnte Eigenschaften und Qualitäten in unseren Kindern und in uns selbst zu entdecken und gemeinsam zu staunen\, zu spielen und uns zu begegnen. Einige Fakten rund um die Tiere und Pflanzen gibt es nebenbei. \nTreffpunkt: Infozentrum KaltenbronnWie lange: 7 StundenFür wen: Eltern\, Großeltern\, Tanten\, Onkel\, zusammen mit ihren Kindern oder Anvertrauten ab 6 JahrenLeitung: Stephanie Sprenkmann\, Hannah JüngertGebühr: 25\,- €/Erwachsener\, 15\,- €/Kind
URL:https://infozentrum-kaltenbronn.de/event/wildes-kochen-fuer-familien/
LOCATION:Infozentrum Kaltenbronn\, Kaltenbronner 600\, Kaltenbronn\, Baden-Württemberg\, 76593\, Germany
CATEGORIES:Familien,Kulinarisches
ATTACH;FMTTYPE=image/jpeg:https://infozentrum-kaltenbronn.de/wp-content/uploads/2026/03/Wildes-Kochen_Bild-von-JalynBryce-auf-Pixabay.jpg
ORGANIZER;CN="Infozentrum Kaltenbronn":MAILTO:info@infozentrum-kaltenbronn.de
END:VEVENT
BEGIN:VEVENT
DTSTART;TZID=Europe/Berlin:20260426T100000
DTEND;TZID=Europe/Berlin:20260426T160000
DTSTAMP:20260421T140313
CREATED:20260214T131800Z
LAST-MODIFIED:20260404T111122Z
UID:3221-1777197600-1777219200@infozentrum-kaltenbronn.de
SUMMARY:Die große Bannwald Tour
DESCRIPTION:Als „Urwald von morgen“ gilt der Bannwald in Baden-Württemberg. Dies trifft zu\, wenn man vom Menschen unbeeinflusste\, sich selbst überlassene „Wildnis“ mit Urwald gleichsetzt. Der Bannwald „Wildseemoor“ ist ein stillgelegtes Waldgebiet\, teils ehemaliger Kulturwald. Große Bereiche entwickeln sich dort seit fast 100 Jahren ohne menschlichen Einfluss. Vor Ort können sich die Teilnehmenden selbst ein Bild machen\, wie sich die Waldentwicklung ohne menschliches Zutun darstellt. Der Bannwald „Wildseemoor“ zeigt viele Gesichter: alte Baumriesen\, die das Erlebnis des Werdens und Vergehens einer Natur\, die keinen Menschen braucht\, erlebbar machen. Auch Landschaften mit durch Borkenkäfer abgestorbenen\, apokalyptisch anmutenden Baumbeständen eröffnen sich dem Betrachter. Je nach Blickwinkel kann ein solcher Wald faszinieren oder alarmieren\, bestätigen oder zu ganz neuen Fragen anregen. \nTreffpunkt: Infozentrum KaltenbronnWie lange: 6 StundenFür wen: Interessierte ab 12 JahrenLeitung: Katrin Dürr\, Försterin ForstBW\, WaldpädagoginGebühr: 10\,- €/Person
URL:https://infozentrum-kaltenbronn.de/event/die-grosse-bannwald-tour/
LOCATION:Infozentrum Kaltenbronn\, Kaltenbronner 600\, Kaltenbronn\, Baden-Württemberg\, 76593\, Germany
CATEGORIES:Bannwald,Walderlebnis,Wandern
ATTACH;FMTTYPE=image/jpeg:https://infozentrum-kaltenbronn.de/wp-content/uploads/2026/03/Grosse-Bannwald-Tour_Bild-Infozentrum-Kaltenbronn-scaled.jpg
ORGANIZER;CN="Infozentrum Kaltenbronn":MAILTO:info@infozentrum-kaltenbronn.de
END:VEVENT
BEGIN:VEVENT
DTSTART;TZID=Europe/Berlin:20260428T140000
DTEND;TZID=Europe/Berlin:20260428T160000
DTSTAMP:20260421T140313
CREATED:20260214T132717Z
LAST-MODIFIED:20260404T110852Z
UID:3224-1777384800-1777392000@infozentrum-kaltenbronn.de
SUMMARY:Lernen\, wo Natur erlebbar wird
DESCRIPTION:Umweltbildung im Infozentrum Kaltenbronn – Inspiration für Schule\, Kita & BildungspraxisWie lernen Kinder nachhaltig\, mit allen Sinnen und mit echter Begeisterung? Am besten draußen – mitten in der Natur.Das Infozentrum Kaltenbronn lädt herzlich zu einer zweistündigen Informations- und Austauschveranstaltung ein\, bei der wir unsere Umweltbildungsarbeit für Kinder und Jugendliche vorstellen und zeigen\, warum Lernen in und mit der Natur heute wichtiger denn je ist.In einer Zeit\, in der viele Kinder den direkten Bezug zur Natur verlieren\, schafft Umweltbildung draußen  Räume für Entdeckung\, Bewegung\, Staunen und Verstehen. Der Kaltenbronn mit seinen Mooren\, Wäldern und offenen Landschaften bietet dafür einen einzigartigen Lernort.Wir bieten Einblick in unsere umweltpädagogischen Angebote für Schulklassen\, Kindergärten und Gruppen\, Praxisnahe Beispiele\, wie Naturerleben\, Wissen und soziales Lernen miteinander verbunden werden können\, Vorstellung unserer Themen und Programme rund um Wald\, Moor\, Tiere\, Klimaschutz und Biodiversität\, Inspiration für das Draußen-Lernen als wertvolle Ergänzung zum Bildungsalltag\, Zeit für Austausch\, Fragen und Vernetzung.Ein Teil der Veranstaltung findet bewusst im Freien statt – denn Natur lässt sich nicht nur erklären\, sie will erlebt werden. \nTreffpunkt: Infozentrum KaltenbronnWie lange: 2 StundenFür wen: Lehrkräfte\, Erzieher:innen\, pädagogische Fachkräfte sowie an alle\, die sich für zeitgemäße Umweltbildung und das Lernen in der Natur interessierenLeitung: Kristina SchreierGebühr: kostenfrei\, mit Anmeldung
URL:https://infozentrum-kaltenbronn.de/event/lernen-wo-natur-erlebbar-wird/
LOCATION:Infozentrum Kaltenbronn\, Kaltenbronner 600\, Kaltenbronn\, Baden-Württemberg\, 76593\, Germany
CATEGORIES:Weiterbildung
ATTACH;FMTTYPE=image/jpeg:https://infozentrum-kaltenbronn.de/wp-content/uploads/2026/03/Lernen-wo-Natur-erlebbar-wird_Bild-von-Zauberin-auf-Pixabay.jpg
ORGANIZER;CN="Infozentrum Kaltenbronn":MAILTO:info@infozentrum-kaltenbronn.de
END:VEVENT
END:VCALENDAR